BEGIN:VCALENDAR
VERSION:2.0
PRODID:-//Huston-Tillotson University - ECPv6.15.13.1//NONSGML v1.0//EN
CALSCALE:GREGORIAN
METHOD:PUBLISH
X-WR-CALNAME:Huston-Tillotson University
X-ORIGINAL-URL:https://htu.edu
X-WR-CALDESC:Events for Huston-Tillotson University
REFRESH-INTERVAL;VALUE=DURATION:PT1H
X-Robots-Tag:noindex
X-PUBLISHED-TTL:PT1H
BEGIN:VTIMEZONE
TZID:America/Chicago
BEGIN:DAYLIGHT
TZOFFSETFROM:-0600
TZOFFSETTO:-0500
TZNAME:CDT
DTSTART:20250309T080000
END:DAYLIGHT
BEGIN:STANDARD
TZOFFSETFROM:-0500
TZOFFSETTO:-0600
TZNAME:CST
DTSTART:20251102T070000
END:STANDARD
BEGIN:DAYLIGHT
TZOFFSETFROM:-0600
TZOFFSETTO:-0500
TZNAME:CDT
DTSTART:20260308T080000
END:DAYLIGHT
BEGIN:STANDARD
TZOFFSETFROM:-0500
TZOFFSETTO:-0600
TZNAME:CST
DTSTART:20261101T070000
END:STANDARD
BEGIN:DAYLIGHT
TZOFFSETFROM:-0600
TZOFFSETTO:-0500
TZNAME:CDT
DTSTART:20270314T080000
END:DAYLIGHT
BEGIN:STANDARD
TZOFFSETFROM:-0500
TZOFFSETTO:-0600
TZNAME:CST
DTSTART:20271107T070000
END:STANDARD
END:VTIMEZONE
BEGIN:VEVENT
DTSTART;VALUE=DATE:20260406
DTEND;VALUE=DATE:20260407
DTSTAMP:20260419T080858
CREATED:20251105T180302Z
LAST-MODIFIED:20251125T060910Z
UID:10000049-1775433600-1775519999@htu.edu
SUMMARY:Summer and Fall Registration Begins
DESCRIPTION:
URL:https://htu.edu/event/summer-and-fall-registration-begins/
LOCATION:Huston-Tillotson University
END:VEVENT
BEGIN:VEVENT
DTSTART;TZID=America/Chicago:20260408T000000
DTEND;TZID=America/Chicago:20260408T000000
DTSTAMP:20260419T080858
CREATED:20260408T135004Z
LAST-MODIFIED:20260408T135046Z
UID:10000068-1775606400-1775606400@htu.edu
SUMMARY:SBT 5th Annual Financial Wellness Symposium
DESCRIPTION:Join the School of Business and Technology at Huston-Tillotson University for our 5th Annual Financial Wellness Symposium on Saturday\, April 11th\, from 10:00 AM to 2:30 PM. This day is designed to move our community beyond the basics of money management toward true financial mastery. \nOur sessions will focus on the essential pillars of financial literacy\, including: \n\nThe Current State of Our Economy: A high-level look at market trends and economic strategy.\nBuilding & Scaling Wealth: Practical workshops on bottom-line investing\, retirement planning\, and navigating the home-buying process.\nEntrepreneurship & Growth: Deep dives into building a scalable business from scratch and exploring entrepreneurship through acquisition.\nModern Financial Tools: Expert insights into personal real estate investing and how AI is supercharging the way we manage money today.\n\nThis event is free and open to the public\, but space is limited. Join us on the HT campus to connect with industry professionals and fellow community members who are committed to building a stronger financial future. \nRegister today at: htusbt.net/events/
URL:https://htu.edu/event/sbt-5th-annual-financial-wellness-symposium/
END:VEVENT
BEGIN:VEVENT
DTSTART;TZID=America/Chicago:20260504T080000
DTEND;TZID=America/Chicago:20260507T170000
DTSTAMP:20260419T080858
CREATED:20251105T180440Z
LAST-MODIFIED:20251106T174141Z
UID:10000051-1777881600-1778173200@htu.edu
SUMMARY:Final Exams
DESCRIPTION:
URL:https://htu.edu/event/final-exams/
LOCATION:Huston-Tillotson University
END:VEVENT
BEGIN:VEVENT
DTSTART;TZID=America/Chicago:20260508T080000
DTEND;TZID=America/Chicago:20260508T170000
DTSTAMP:20260419T080858
CREATED:20251105T180346Z
LAST-MODIFIED:20251125T061229Z
UID:10000050-1778227200-1778259600@htu.edu
SUMMARY:Last Day of Class
DESCRIPTION:
URL:https://htu.edu/event/last-day-of-class-2/
LOCATION:Huston-Tillotson University
END:VEVENT
BEGIN:VEVENT
DTSTART;TZID=America/Chicago:20260511T080000
DTEND;TZID=America/Chicago:20260514T170000
DTSTAMP:20260419T080858
CREATED:20251125T061341Z
LAST-MODIFIED:20251125T061341Z
UID:10000064-1778486400-1778778000@htu.edu
SUMMARY:Final Exams
DESCRIPTION:
URL:https://htu.edu/event/final-exams-2/
LOCATION:Huston-Tillotson University
END:VEVENT
BEGIN:VEVENT
DTSTART;TZID=America/Chicago:20260514T080000
DTEND;TZID=America/Chicago:20260516T170000
DTSTAMP:20260419T080858
CREATED:20251105T180541Z
LAST-MODIFIED:20251106T174148Z
UID:10000052-1778745600-1778950800@htu.edu
SUMMARY:Reunion Weekend
DESCRIPTION:
URL:https://htu.edu/event/reunion-weekend/
LOCATION:Huston-Tillotson University
END:VEVENT
BEGIN:VEVENT
DTSTART;VALUE=DATE:20260515
DTEND;VALUE=DATE:20260516
DTSTAMP:20260419T080858
CREATED:20251125T061822Z
LAST-MODIFIED:20251125T061856Z
UID:10000065-1778803200-1778889599@htu.edu
SUMMARY:Honors Convocation
DESCRIPTION:
URL:https://htu.edu/event/honors-convocation-2/
LOCATION:Honors Convocation\, Shoreline Christian Church 15201 Burnet Road\, Austin Texas 78728\, 78728\, United States
END:VEVENT
BEGIN:VEVENT
DTSTART;TZID=America/Chicago:20260516T090000
DTEND;TZID=America/Chicago:20260516T170000
DTSTAMP:20260419T080858
CREATED:20251125T062234Z
LAST-MODIFIED:20251125T062234Z
UID:10000066-1778922000-1778950800@htu.edu
SUMMARY:Commencement Convocation
DESCRIPTION:
URL:https://htu.edu/event/commencement-convocation/
LOCATION:Huston-Tillotson University
END:VEVENT
BEGIN:VEVENT
DTSTART;TZID=America/Chicago:20261023T080000
DTEND;TZID=America/Chicago:20261023T170000
DTSTAMP:20260419T080858
CREATED:20251105T181200Z
LAST-MODIFIED:20251106T174223Z
UID:10000056-1792742400-1792774800@htu.edu
SUMMARY:151st Charter Day Observance
DESCRIPTION:
URL:https://htu.edu/event/151st-charter-day-observance/
LOCATION:Huston-Tillotson University
END:VEVENT
BEGIN:VEVENT
DTSTART;TZID=America/Chicago:20261023T080000
DTEND;TZID=America/Chicago:20261023T170000
DTSTAMP:20260419T080858
CREATED:20260227T181322Z
LAST-MODIFIED:20260227T225846Z
UID:10000057-1792742400-1792774800@htu.edu
SUMMARY:Boots ’N Bling
DESCRIPTION:
URL:https://htu.edu/event/boots-n-bling/
LOCATION:Huston-Tillotson University
END:VEVENT
BEGIN:VEVENT
DTSTART;TZID=America/Chicago:20261114T080000
DTEND;TZID=America/Chicago:20261121T170000
DTSTAMP:20260419T080858
CREATED:20251105T181046Z
LAST-MODIFIED:20260227T215845Z
UID:10000055-1794643200-1795280400@htu.edu
SUMMARY:Homecoming II
DESCRIPTION:
URL:https://htu.edu/event/homecoming-ii/
LOCATION:Huston-Tillotson University
END:VEVENT
END:VCALENDAR